BEGIN:VCALENDAR
VERSION:2.0
PRODID:-//hacksw/handcal//NONSGML v1.0//EN
BEGIN:VEVENT
SUMMARY:Coupe de Moselle Benjamins benjamines
UID:13e1db73-8b3a-4d5c-9068-60f4f0e8c89b
DTSTART:20260314T073000Z
DTEND:20260314T173000Z
LOCATION:Localisation Complexe sportif Marcel Cerdan 6 rue du Neufeld 57450 Farebersviller
CATEGORIES:Sportif
STATUS:
DESCRIPTION:<p><strong>Coupe de Moselle Benjamins 2025 –
 Farebersviller</strong><br>
 <br>
 <strong>Filles (toutes
 categories)  </strong><br>
 • Pesee : 8h45 – 9h15  <br>
 •
 Echauffement : 9h15 – 9h45  <br>
 • Combats : 9h45 –
 12h45  <br>
 <br>
 <strong>Garcons A (-26, -30, -34, -38
 kg)  </strong><br>
 • Pesee : 11h45 – 12h30  <br>
 •
 Echauffement : 12h30 – 13h00  <br>
 • Combats : 13h00 –
 15h30  <br>
 <br>
 <strong>Garcons B (-42, -46, -50, -55, -60, -66,
 +66 kg) </strong> <br>
 • Pesee : 14h45 – 15h30  <br>
 •
 Echauffement : 15h30 – 16h00  <br>
 • Combats : 16h00 –
 18h30</p>
URL;VALUE=URI:https://dojoennery57.sportsregions.fr/evenements/2026/03/14/coupe-de-moselle-benjamins-benjamines-2426782
END:VEVENT
END:VCALENDAR
